BEGIN:VCALENDAR
VERSION:2.0
PRODID:-//MLRC - ECPv6.15.20//NONSGML v1.0//EN
CALSCALE:GREGORIAN
METHOD:PUBLISH
X-ORIGINAL-URL:https://mlrc.wisc.edu
X-WR-CALDESC:Events for MLRC
REFRESH-INTERVAL;VALUE=DURATION:PT1H
X-Robots-Tag:noindex
X-PUBLISHED-TTL:PT1H
BEGIN:VTIMEZONE
TZID:UTC
BEGIN:STANDARD
TZOFFSETFROM:+0000
TZOFFSETTO:+0000
TZNAME:UTC
DTSTART:20240101T000000
END:STANDARD
END:VTIMEZONE
BEGIN:VEVENT
DTSTART;VALUE=DATE:20250221
DTEND;VALUE=DATE:20250223
DTSTAMP:20260422T130407
CREATED:20240617T211343Z
LAST-MODIFIED:20241108T153418Z
UID:2648-1740096000-1740268799@mlrc.wisc.edu
SUMMARY:Research Symposia: Argentina
DESCRIPTION:The MLRC Research Symposia are two-day in-person workshops focused on 1) evidence about teaching multilingual learners and 2) designing action research projects. After the workshop\, teams receive ongoing synchronous and asynchronous virtual support from the MLRC and from their fellow participants as they engage in action research projects to explore problems of practice in the local context. \nRegistration open now! \nPricing:\nEarly Bird : $450\nRegular: $550\n\n* Early registration ends December 20 at midnight Central time\n**Regular registration ends February 7 at midnight Central time
URL:https://mlrc.wisc.edu/event/rsargentina/
LOCATION:Lincoln – The American International School\, Andrés Ferreyra 4073\, La Lucila\, Provincia de Buenos Aires\, B1637AOQ\, Argentina
CATEGORIES:Research Symposium
END:VEVENT
END:VCALENDAR