BEGIN:VCALENDAR
VERSION:2.0
PRODID:-//MLRC - ECPv6.15.20//NONSGML v1.0//EN
CALSCALE:GREGORIAN
METHOD:PUBLISH
X-WR-CALNAME:MLRC
X-ORIGINAL-URL:https://mlrc.wisc.edu
X-WR-CALDESC:Events for MLRC
REFRESH-INTERVAL;VALUE=DURATION:PT1H
X-Robots-Tag:noindex
X-PUBLISHED-TTL:PT1H
BEGIN:VTIMEZONE
TZID:UTC
BEGIN:STANDARD
TZOFFSETFROM:+0000
TZOFFSETTO:+0000
TZNAME:UTC
DTSTART:20250101T000000
END:STANDARD
END:VTIMEZONE
BEGIN:VEVENT
DTSTART;TZID=UTC:20260117T080000
DTEND;TZID=UTC:20260118T160000
DTSTAMP:20260420T221224
CREATED:20250707T214223Z
LAST-MODIFIED:20251126T194312Z
UID:4462-1768636800-1768752000@mlrc.wisc.edu
SUMMARY:Research Symposium: Malaga
DESCRIPTION:Hosted at the British School of Málaga in Málaga\, the MLRC Research Symposium provides a two-day in-person workshop where educators dive into the research in fostering inclusive and multilingual classrooms. With sessions focused on translanguaging\, collaboration\, and inclusive EAL\, participants collaborate in teams to create action research plans that address their school’s unique needs. Following the workshop\, participants remain connected through virtual MLRC support as they explore their own action research projects and translate research into practice. \nRegistration open now! \n  \nPricing: \nEarly Bird : $525 USD \nRegular: $625 USD \n* Early registration ends December 12th at midnight Central time \n**Regular registration ends January 3rd at midnight Central time
URL:https://mlrc.wisc.edu/event/research-symposium-malaga/
LOCATION:British School of Málaga\, C. Centaurea\, 8\, Málaga-Este\, Málaga\, 29018\, Spain
CATEGORIES:Research Symposium
END:VEVENT
BEGIN:VEVENT
DTSTART;TZID=UTC:20260124T080000
DTEND;TZID=UTC:20260125T160000
DTSTAMP:20260420T221224
CREATED:20250707T214617Z
LAST-MODIFIED:20250707T214651Z
UID:4470-1769241600-1769356800@mlrc.wisc.edu
SUMMARY:Research Symposium: Manila
DESCRIPTION:Held in Manila at the International School of Manila\, the MLRC Research Symposium brings educators together for two days of hands-on learning\, deep discussion\, and action research planning. Participants explore key themes such as inclusive EAL\, translanguaging\, and collaboration\, grounded in research. After the symposium\, school teams receive sustained MLRC support as they carry out action research to elevate multilingual learning in their home schools. \nRegistration open now! \n  \nPricing: \nEarly Bird : $525 USD \nRegular: $625 USD \n* Early registration ends November 28th at midnight Central time \n**Regular registration ends January 10th at midnight Central time
URL:https://mlrc.wisc.edu/event/research-symposium-manila/
LOCATION:International School of Manila\, University Pkwy\, Taguig\, Metro Manila\, 1634\, Philippines
CATEGORIES:Research Symposium
END:VEVENT
END:VCALENDAR