BEGIN:VCALENDAR
VERSION:2.0
PRODID:-//MLRC - ECPv6.15.20//NONSGML v1.0//EN
CALSCALE:GREGORIAN
METHOD:PUBLISH
X-ORIGINAL-URL:https://mlrc.wisc.edu
X-WR-CALDESC:Events for MLRC
REFRESH-INTERVAL;VALUE=DURATION:PT1H
X-Robots-Tag:noindex
X-PUBLISHED-TTL:PT1H
BEGIN:VTIMEZONE
TZID:UTC
BEGIN:STANDARD
TZOFFSETFROM:+0000
TZOFFSETTO:+0000
TZNAME:UTC
DTSTART:20230101T000000
END:STANDARD
END:VTIMEZONE
BEGIN:VEVENT
DTSTART;TZID=UTC:20241017T130000
DTEND;TZID=UTC:20241017T140000
DTSTAMP:20260422T144628
CREATED:20240909T181140Z
LAST-MODIFIED:20240909T181205Z
UID:2952-1729170000-1729173600@mlrc.wisc.edu
SUMMARY:MLRC Speaker Series: Madigan Peercy et al
DESCRIPTION:Megan Madigan Peercy\, Johanna Tigert\, Daisy Fredricks\, & Melanie Hardy-Skeberdis present Leveraging Core Practices to Support Teachers’ Humanizing Pedagogy with MLLs. Registration required. \nIn this webinar\, we share an overview of the six core practices for teaching multilingual students that we have developed in collaboration with early career teachers. These practices emerged in response to the gap that Faltis & Valdes (2016) identified regarding the lack of direction offered to teacher educators about “the kinds of knowledge\, skills\, and inclinations teachers need to develop in order to be good and effective teachers and advocates for students who are speaking a language other than English” (p. 549). We highlight the core practices\, share classroom examples\, discuss how they support teachers’ humanizing pedagogy with MLLs\, offer resources for teacher and teacher educator development\, and describe our current and future efforts to further this research.
URL:https://mlrc.wisc.edu/event/2952/
CATEGORIES:Speaker Series,Webinar
END:VEVENT
END:VCALENDAR